BEGIN:VCALENDAR
PRODID:-//eluceo/ical//2.0/EN
VERSION:2.0
CALSCALE:GREGORIAN
BEGIN:VEVENT
UID:badc93bffb0e9c8c4b954e632c93866b
DTSTAMP:20260420T164307Z
SUMMARY:Curriculum Nutritional Medicine: «Ultra-processed food»: what it 
 is and why we should worry about it
URL:https://stoffwechsel-gewichtsregulation.insel.ch/de/veranstaltungen/det
 ails/detail/curriculum-nutritional-medicine-nutrition-for-muscle-health-1-
 2-3
DTSTART;TZID=+01:00:20261103T161500
DTEND;TZID=+01:00:20261103T170000
LOCATION:ACCESS VIA ZOOM
END:VEVENT
END:VCALENDAR
