BEGIN:VCALENDAR
PRODID:-//eluceo/ical//2.0/EN
VERSION:2.0
CALSCALE:GREGORIAN
BEGIN:VEVENT
UID:811a200d138a05d0acf6a8e8198eb5c2
DTSTAMP:20260420T164236Z
SUMMARY:Curriculum Nutritional Medicine: Beyond the scale: rethinking nutri
 tion therapy with incretin mimetics
URL:https://stoffwechsel-gewichtsregulation.insel.ch/de/veranstaltungen/det
 ails/detail/curriculum-nutritional-medicine-nutrition-for-muscle-health-1-
 2
DTSTART;TZID=+01:00:20261201T161500
DTEND;TZID=+01:00:20261201T170000
LOCATION:ACCESS VIA ZOOM
END:VEVENT
END:VCALENDAR
