BEGIN:VCALENDAR
PRODID:-//eluceo/ical//2.0/EN
VERSION:2.0
CALSCALE:GREGORIAN
BEGIN:VEVENT
UID:e4924389281fc421b9c2c04a77fd1575
DTSTAMP:20260420T164341Z
SUMMARY:Diagnostisch-Therapeutisches Seminar zum Thema "Über- und Untergew
 icht in der Hausarztpraxis"
URL:https://stoffwechsel-gewichtsregulation.insel.ch/de/veranstaltungen/det
 ails/detail/diagnostisch-therapeutisches-seminar-zum-thema-ueber-und-unter
 gewicht-in-der-hausarztpraxis
DTSTART;TZID=+02:00:20260611T140000
DTEND;TZID=+02:00:20260611T174500
LOCATION:Anna-Seiler-Haus\, U1\, Kursraum 006–007\, Inselspital
END:VEVENT
END:VCALENDAR
