BEGIN:VCALENDAR
PRODID:-//eluceo/ical//2.0/EN
VERSION:2.0
CALSCALE:GREGORIAN
BEGIN:VEVENT
UID:198edf4a5f7648f5ef00451483334e8d
DTSTAMP:20260420T164108Z
SUMMARY:UDEM Symposium 2026
URL:https://stoffwechsel-gewichtsregulation.insel.ch/de/veranstaltungen/det
 ails/detail/udem-symposium-2026
DTSTART;TZID=+02:00:20260430T134500
DTEND;TZID=+02:00:20260430T171000
LOCATION:Inselspital Bern\, Auditorium Ettore Rossi
END:VEVENT
END:VCALENDAR
